BEGIN:VCALENDAR
VERSION:2.0
PRODID:-//ΑΦΑ - Iota Rho Chapter - ECPv6.15.15//NONSGML v1.0//EN
CALSCALE:GREGORIAN
METHOD:PUBLISH
X-ORIGINAL-URL:https://ipalphas.com
X-WR-CALDESC:Events for ΑΦΑ - Iota Rho Chapter
REFRESH-INTERVAL;VALUE=DURATION:PT1H
X-Robots-Tag:noindex
X-PUBLISHED-TTL:PT1H
BEGIN:VTIMEZONE
TZID:America/New_York
BEGIN:DAYLIGHT
TZOFFSETFROM:-0500
TZOFFSETTO:-0400
TZNAME:EDT
DTSTART:20230312T070000
END:DAYLIGHT
BEGIN:STANDARD
TZOFFSETFROM:-0400
TZOFFSETTO:-0500
TZNAME:EST
DTSTART:20231105T060000
END:STANDARD
BEGIN:DAYLIGHT
TZOFFSETFROM:-0500
TZOFFSETTO:-0400
TZNAME:EDT
DTSTART:20240310T070000
END:DAYLIGHT
BEGIN:STANDARD
TZOFFSETFROM:-0400
TZOFFSETTO:-0500
TZNAME:EST
DTSTART:20241103T060000
END:STANDARD
BEGIN:DAYLIGHT
TZOFFSETFROM:-0500
TZOFFSETTO:-0400
TZNAME:EDT
DTSTART:20250309T070000
END:DAYLIGHT
BEGIN:STANDARD
TZOFFSETFROM:-0400
TZOFFSETTO:-0500
TZNAME:EST
DTSTART:20251102T060000
END:STANDARD
END:VTIMEZONE
BEGIN:VEVENT
DTSTART;TZID=America/New_York:20240525T110000
DTEND;TZID=America/New_York:20240525T190000
DTSTAMP:20260422T200034
CREATED:20240418T001815Z
LAST-MODIFIED:20240418T001815Z
UID:410-1716634800-1716663600@ipalphas.com
SUMMARY:Iota Rho Family & Friends Anniversary Cookout
DESCRIPTION:12 Noon – Sunset\nSouth Mountain Reservation\n$40.00 per person. (Food & music provided) \nClick here to purchase tickets \n  \nClick here to download full schedule of events!
URL:https://ipalphas.com/event/iota-rho-family-friends-anniversary-cookout
LOCATION:South Mountain Reservation
END:VEVENT
END:VCALENDAR